BEGIN:VCALENDAR
VERSION:2.0
PRODID:-//wp-events-plugin.com//6.6.3//EN
TZID:Europe/Rome
X-WR-TIMEZONE:Europe/Rome
BEGIN:VEVENT
UID:0-34@parrocchieprimierovanoi.it
DTSTART;TZID=Europe/Rome:20190506T203000
DTEND;TZID=Europe/Rome:20190506T220000
DTSTAMP:20190502T092143Z
URL:http://www.parrocchieprimierovanoi.it/events/don-giulio-viviani-il-dia
 conato-permanente/
SUMMARY:Don Giulio Viviani . Il diaconato permanente
DESCRIPTION:
LOCATION:oratorio di Mezzano\, via del Pian\, 3\, Mezzano\, Italia/Trento\,
  38050\, Trentino Alto Adige\, Italia
X-APPLE-STRUCTURED-LOCATION;VALUE=URI;X-ADDRESS=via del Pian\, 3\, Mezzano\
 , Italia/Trento\, 38050\, Trentino Alto Adige\, Italia;X-APPLE-RADIUS=100;
 X-TITLE=oratorio di Mezzano:geo:0,0
END:VEVENT
BEGIN:VTIMEZONE
TZID:Europe/Rome
X-LIC-LOCATION:Europe/Rome
BEGIN:DAYLIGHT
DTSTART:20190331T030000
TZOFFSETFROM:+0100
TZOFFSETTO:+0200
TZNAME:CEST
END:DAYLIGHT
END:VTIMEZONE
END:VCALENDAR