BEGIN:VCALENDAR
VERSION:2.0
PRODID:-//wp-events-plugin.com//6.6.3//EN
TZID:Europe/Rome
X-WR-TIMEZONE:Europe/Rome
BEGIN:VEVENT
UID:0-31@parrocchieprimierovanoi.it
DTSTART;TZID=Europe/Rome:20190228T201500
DTEND;TZID=Europe/Rome:20190228T201500
DTSTAMP:20190222T130845Z
URL:http://www.parrocchieprimierovanoi.it/events/formazione-catechisti/
SUMMARY:Formazione catechisti
DESCRIPTION:giovedì 28 febbraio ore 20.15 formazione catechisti 4 elementa
 re. Oratorio pieve
LOCATION:Oratorio di Pieve\, Viale Marconi\, Primiero San Martino di Castro
 zza\, Italia/Trento\, 38054\, Italia
X-APPLE-STRUCTURED-LOCATION;VALUE=URI;X-ADDRESS=Viale Marconi\, Primiero Sa
 n Martino di Castrozza\, Italia/Trento\, 38054\, Italia;X-APPLE-RADIUS=100
 ;X-TITLE=Oratorio di Pieve:geo:0,0
END:VEVENT
BEGIN:VTIMEZONE
TZID:Europe/Rome
X-LIC-LOCATION:Europe/Rome
BEGIN:STANDARD
DTSTART:20181028T020000
TZOFFSETFROM:+0200
TZOFFSETTO:+0100
TZNAME:CET
END:STANDARD
END:VTIMEZONE
END:VCALENDAR