BEGIN:VCALENDAR
VERSION:2.0
PRODID:-//wp-events-plugin.com//6.6.3//EN
TZID:Europe/Rome
X-WR-TIMEZONE:Europe/Rome
BEGIN:VEVENT
UID:0-30@parrocchieprimierovanoi.it
DTSTART;TZID=Europe/Rome:20190201T203000
DTEND;TZID=Europe/Rome:20190301T203000
DTSTAMP:20190222T130524Z
URL:http://www.parrocchieprimierovanoi.it/events/gruppo-missionario-decana
 le-3/
SUMMARY:gruppo missionario decanale
DESCRIPTION:venerdì 1 marzo ore 20 .30 oratorio pieve
LOCATION:Oratorio di Pieve\, Viale Marconi\, Primiero San Martino di Castro
 zza\, Italia/Trento\, 38054\, Italia
X-APPLE-STRUCTURED-LOCATION;VALUE=URI;X-ADDRESS=Viale Marconi\, Primiero Sa
 n Martino di Castrozza\, Italia/Trento\, 38054\, Italia;X-APPLE-RADIUS=100
 ;X-TITLE=Oratorio di Pieve:geo:0,0
END:VEVENT
BEGIN:VTIMEZONE
TZID:Europe/Rome
X-LIC-LOCATION:Europe/Rome
BEGIN:STANDARD
DTSTART:20181028T020000
TZOFFSETFROM:+0200
TZOFFSETTO:+0100
TZNAME:CET
END:STANDARD
END:VTIMEZONE
END:VCALENDAR