BEGIN:VCALENDAR
VERSION:2.0
PRODID:-//wp-events-plugin.com//6.6.3//EN
TZID:Europe/Rome
X-WR-TIMEZONE:Europe/Rome
BEGIN:VEVENT
UID:0-29@parrocchieprimierovanoi.it
DTSTART;TZID=Europe/Rome:20190325T203000
DTEND;TZID=Europe/Rome:20190325T223000
DTSTAMP:20190221T090123Z
URL:http://www.parrocchieprimierovanoi.it/events/incontri-enciclica-laudat
 o-sii-4/
SUMMARY:Incontri Enciclica Laudato sii
DESCRIPTION:Alberto Conci: la chiesa in uscita: una sintesi sotto il profil
 o spirituale
LOCATION:Oratorio di Pieve Sacro cuore di Gesù\, Viale Marconi 3\, Primier
 o San Martino di Castrozza\, Italia/Trento\, 38054\, Trentino Alto Adige\,
  Italia
GEO:46.173633;11.825991
X-APPLE-STRUCTURED-LOCATION;VALUE=URI;X-ADDRESS=Viale Marconi 3\, Primiero 
 San Martino di Castrozza\, Italia/Trento\, 38054\, Trentino Alto Adige\, I
 talia;X-APPLE-RADIUS=100;X-TITLE=Oratorio di Pieve Sacro cuore di Gesù:ge
 o:46.173633,11.825991
END:VEVENT
BEGIN:VTIMEZONE
TZID:Europe/Rome
X-LIC-LOCATION:Europe/Rome
BEGIN:STANDARD
DTSTART:20181028T020000
TZOFFSETFROM:+0200
TZOFFSETTO:+0100
TZNAME:CET
END:STANDARD
END:VTIMEZONE
END:VCALENDAR