BEGIN:VCALENDAR
VERSION:2.0
PRODID:-//wp-events-plugin.com//6.6.3//EN
TZID:Europe/Rome
X-WR-TIMEZONE:Europe/Rome
BEGIN:VEVENT
UID:0-21@parrocchieprimierovanoi.it
DTSTART;TZID=Europe/Rome:20190413T140000
DTEND;TZID=Europe/Rome:20190413T163000
DTSTAMP:20190207T145632Z
URL:http://www.parrocchieprimierovanoi.it/events/lettura-popolare-della-bi
 bbia-3/
SUMMARY:Lettura popolare della Bibbia
DESCRIPTION:
LOCATION:Oratorio di Pieve Sacro cuore di Gesù\, Viale Marconi 3\, Primier
 o San Martino di Castrozza\, Italia/Trento\, 38054\, Trentino Alto Adige\,
  Italia
GEO:46.173633;11.825991
X-APPLE-STRUCTURED-LOCATION;VALUE=URI;X-ADDRESS=Viale Marconi 3\, Primiero 
 San Martino di Castrozza\, Italia/Trento\, 38054\, Trentino Alto Adige\, I
 talia;X-APPLE-RADIUS=100;X-TITLE=Oratorio di Pieve Sacro cuore di Gesù:ge
 o:46.173633,11.825991
END:VEVENT
BEGIN:VTIMEZONE
TZID:Europe/Rome
X-LIC-LOCATION:Europe/Rome
BEGIN:DAYLIGHT
DTSTART:20190331T030000
TZOFFSETFROM:+0100
TZOFFSETTO:+0200
TZNAME:CEST
END:DAYLIGHT
END:VTIMEZONE
END:VCALENDAR