BEGIN:VCALENDAR
VERSION:2.0
PRODID:-//wp-events-plugin.com//6.6.3//EN
TZID:Europe/Rome
X-WR-TIMEZONE:Europe/Rome
BEGIN:VEVENT
UID:0-36@parrocchieprimierovanoi.it
DTSTART;TZID=Europe/Rome:20190528T200000
DTEND;TZID=Europe/Rome:20190528T210000
DTSTAMP:20190502T092548Z
URL:http://www.parrocchieprimierovanoi.it/events/santa-messa-nella-memoria
 -della-beata-serafina/
SUMMARY:Santa Messa nella memoria della Beata Serafina
DESCRIPTION:
LOCATION:Chiesa di Imèr\, Piazza della Chiesa\, 3\, Imèr\, Italia/Trento\
 , 38050\, Trentino Alto Adige\, Italia
X-APPLE-STRUCTURED-LOCATION;VALUE=URI;X-ADDRESS=Piazza della Chiesa\, 3\, I
 mèr\, Italia/Trento\, 38050\, Trentino Alto Adige\, Italia;X-APPLE-RADIUS
 =100;X-TITLE=Chiesa di Imèr:geo:0,0
END:VEVENT
BEGIN:VTIMEZONE
TZID:Europe/Rome
X-LIC-LOCATION:Europe/Rome
BEGIN:DAYLIGHT
DTSTART:20190331T030000
TZOFFSETFROM:+0100
TZOFFSETTO:+0200
TZNAME:CEST
END:DAYLIGHT
END:VTIMEZONE
END:VCALENDAR