BEGIN:VCALENDAR
VERSION:2.0
PRODID:-//wp-events-plugin.com//6.6.3//EN
TZID:Europe/Rome
X-WR-TIMEZONE:Europe/Rome
BEGIN:VEVENT
UID:0-9@parrocchieprimierovanoi.it
DTSTART;TZID=Europe/Rome;VALUE=DATE:20180906
DTEND;TZID=Europe/Rome;VALUE=DATE:20180913
DTSTAMP:20180906T133924Z
URL:http://www.parrocchieprimierovanoi.it/events/sante-messe-di-inizio-ann
 o-scolastico/
SUMMARY:Sante Messe di inizio anno scolastico
DESCRIPTION:
END:VEVENT
BEGIN:VTIMEZONE
TZID:Europe/Rome
X-LIC-LOCATION:Europe/Rome
BEGIN:DAYLIGHT
DTSTART:20180325T030000
TZOFFSETFROM:+0100
TZOFFSETTO:+0200
TZNAME:CEST
END:DAYLIGHT
END:VTIMEZONE
END:VCALENDAR