BEGIN:VCALENDAR
VERSION:2.0
PRODID:-//wp-events-plugin.com//6.6.3//EN
TZID:Europe/Rome
X-WR-TIMEZONE:Europe/Rome
BEGIN:VEVENT
UID:0-35@parrocchieprimierovanoi.it
DTSTART;TZID=Europe/Rome:20190513T203000
DTEND;TZID=Europe/Rome:20190513T223000
DTSTAMP:20190502T092403Z
URL:http://www.parrocchieprimierovanoi.it/events/veglia-in-preparazione-al
 -diaconato/
SUMMARY:Veglia in preparazione al Diaconato
DESCRIPTION:
LOCATION:monastero Clarisse Cappuccine\, Via dei Cappuccini\, Primiero San 
 Martino di Castrozza\, Italia/Trento\, 38054\, Trentino Alto Adige\, Itali
 a
X-APPLE-STRUCTURED-LOCATION;VALUE=URI;X-ADDRESS=Via dei Cappuccini\, Primie
 ro San Martino di Castrozza\, Italia/Trento\, 38054\, Trentino Alto Adige\
 , Italia;X-APPLE-RADIUS=100;X-TITLE=monastero Clarisse Cappuccine:geo:0,0
END:VEVENT
BEGIN:VTIMEZONE
TZID:Europe/Rome
X-LIC-LOCATION:Europe/Rome
BEGIN:DAYLIGHT
DTSTART:20190331T030000
TZOFFSETFROM:+0100
TZOFFSETTO:+0200
TZNAME:CEST
END:DAYLIGHT
END:VTIMEZONE
END:VCALENDAR